BEGIN:VCALENDAR
VERSION:2.0
PRODID:-//堀田音霊療法研究会 - ECPv6.15.19//NONSGML v1.0//EN
CALSCALE:GREGORIAN
METHOD:PUBLISH
X-WR-CALNAME:堀田音霊療法研究会
X-ORIGINAL-URL:http://otodama.org
X-WR-CALDESC:堀田音霊療法研究会 のイベント
REFRESH-INTERVAL;VALUE=DURATION:PT1H
X-Robots-Tag:noindex
X-PUBLISHED-TTL:PT1H
BEGIN:VTIMEZONE
TZID:Asia/Tokyo
BEGIN:STANDARD
TZOFFSETFROM:+0900
TZOFFSETTO:+0900
TZNAME:JST
DTSTART:20190101T000000
END:STANDARD
END:VTIMEZONE
BEGIN:VEVENT
DTSTART;TZID=Asia/Tokyo:20201123T093000
DTEND;TZID=Asia/Tokyo:20201123T163000
DTSTAMP:20260422T033448
CREATED:20201103T055456Z
LAST-MODIFIED:20201104T032836Z
UID:435-1606123800-1606149000@otodama.org
SUMMARY:癒し力を高める１DAY講座 in 京都
DESCRIPTION:2020年11月23日（月・祝）9時30分〜16時30分（開場9時15分）※終了時間は変更の可能性アリ\n■会場：京都府立総合社会福祉会館　ハートピア京都\n■定員：20名→30名　→残席１（11/2現在）\n■参加費：25\,000円（再受講20\,000円）\n■持参物：筆記用具、ノート、ペンジュラム（お持ちのものでOK）※事務局で販売も行っています（要予約）\n■主催：堀田音霊療法事務局 \nお申込みはこちら
URL:http://otodama.org/event/kyoto20201123/
LOCATION:京都府立総合社会福祉会館　ハートピア京都\, 京都府京都市中央区清水町３７５\, 日本
END:VEVENT
END:VCALENDAR